Workbook

Sheet CALENDARIO LA RIOJA
A1: La Rioja
A2: Calendario escolar 2026/2027
I4: Septiembre 2026 | Q4: Octubre 2026
I5: L | J5: M | K5: X | L5: J | M5: V | N5: S | O5: D | Q5: L | R5: M | S5: X | T5: J | U5: V | V5: S | W5: D
J6: 1 | K6: 2 | L6: 3 | M6: 4 | N6: 5 | O6: 6 | T6: 1 | U6: 2 | V6: 3 | W6: 4
I7: 7 | J7: 8 | K7: 9 | L7: 10 | M7: 11 | N7: 12 | O7: 13 | Q7: 5 | R7: 6 | S7: 7 | T7: 8 | U7: 9 | V7: 10 | W7: 11
I8: 14 | J8: 15 | K8: 16 | L8: 17 | M8: 18 | N8: 19 | O8: 20 | Q8: 12 | R8: 13 | S8: 14 | T8: 15 | U8: 16 | V8: 17 | W8: 18
I9: 21 | J9: 22 | K9: 23 | L9: 24 | M9: 25 | N9: 26 | O9: 27 | Q9: 19 | R9: 20 | S9: 21 | T9: 22 | U9: 23 | V9: 24 | W9: 25
I10: 28 | J10: 29 | K10: 30 | Q10: 26 | R10: 27 | S10: 28 | T10: 29 | U10: 30 | V10: 31 | W10: 1
A12: Noviebre 2026 | I12: Diciembre 2026 | Q12: Enero 2027
A13: L | B13: M | C13: X | D13: J | E13: V | F13: S | G13: D | I13: L | J13: M | K13: X | L13: J | M13: V | N13: S | O13: D | Q13: L | R13: M | S13: X | T13: J | U13: V | V13: S | W13: D
A14: 2 | B14: 3 | C14: 4 | D14: 5 | E14: 6 | F14: 7 | G14: 8 | J14: 1 | K14: 2 | L14: 3 | M14: 4 | N14: 5 | O14: 6 | U14: 1 | V14: 2 | W14: 3
A15: 9 | B15: 10 | C15: 11 | D15: 12 | E15: 13 | F15: 14 | G15: 15 | I15: 7 | J15: 8 | K15: 9 | L15: 10 | M15: 11 | N15: 12 | O15: 13 | Q15: 4 | R15: 5 | S15: 6 | T15: 7 | U15: 8 | V15: 9 | W15: 10
A16: 16 | B16: 17 | C16: 18 | D16: 19 | E16: 20 | F16: 21 | G16: 22 | I16: 14 | J16: 15 | K16: 16 | L16: 17 | M16: 18 | N16: 19 | O16: 20 | Q16: 11 | R16: 12 | S16: 13 | T16: 14 | U16: 15 | V16: 16 | W16: 17
A17: 23 | B17: 24 | C17: 25 | D17: 26 | E17: 27 | F17: 28 | G17: 29 | I17: 21 | J17: 22 | K17: 23 | L17: 24 | M17: 25 | N17: 26 | O17: 27 | Q17: 18 | R17: 19 | S17: 20 | T17: 21 | U17: 22 | V17: 23 | W17: 24
A18: 30 | I18: 28 | J18: 29 | K18: 30 | L18: 31 | Q18: 25 | R18: 26 | S18: 27 | T18: 28 | U18: 29 | V18: 30 | W18: 31
A20: Febrero 2027 | I20: Marzo 2027 | Q20: Abril 2027
A21: L | B21: M | C21: X | D21: J | E21: V | F21: S | G21: D | I21: L | J21: M | K21: X | L21: J | M21: V | N21: S | O21: D | Q21: L | R21: M | S21: X | T21: J | U21: V | V21: S | W21: D
A22: 1 | B22: 2 | C22: 3 | D22: 4 | E22: 5 | F22: 6 | G22: 7 | I22: 1 | J22: 2 | K22: 3 | L22: 4 | M22: 5 | N22: 6 | O22: 7 | T22: 1 | U22: 2 | V22: 3 | W22: 4
A23: 8 | B23: 9 | C23: 10 | D23: 11 | E23: 12 | F23: 13 | G23: 14 | I23: 8 | J23: 9 | K23: 10 | L23: 11 | M23: 12 | N23: 13 | O23: 14 | Q23: 5 | R23: 6 | S23: 7 | T23: 8 | U23: 9 | V23: 10 | W23: 11
A24: 15 | B24: 16 | C24: 17 | D24: 18 | E24: 19 | F24: 20 | G24: 21 | I24: 15 | J24: 16 | K24: 17 | L24: 18 | M24: 19 | N24: 20 | O24: 21 | Q24: 12 | R24: 13 | S24: 14 | T24: 15 | U24: 16 | V24: 17 | W24: 18
A25: 22 | B25: 23 | C25: 24 | D25: 25 | E25: 26 | F25: 27 | G25: 28 | I25: 22 | J25: 23 | K25: 24 | L25: 25 | M25: 26 | N25: 27 | O25: 28 | Q25: 19 | R25: 20 | S25: 21 | T25: 22 | U25: 23 | V25: 24 | W25: 25
I26: 29 | J26: 30 | K26: 31 | Q26: 26 | R26: 27 | S26: 28 | T26: 29 | U26: 30 | V26: 1 | W26: 2
A28: Mayo 2026 | I28: Junio 2026
A29: L | B29: M | C29: X | D29: J | E29: V | F29: S | G29: D | I29: L | J29: M | K29: X | L29: J | M29: V | N29: S | O29: D
A30: 3 | B30: 4 | C30: 5 | D30: 6 | E30: 7 | F30: 8 | G30: 9 | J30: 1 | K30: 2 | L30: 3 | M30: 4 | N30: 5 | O30: 6
A31: 10 | B31: 11 | C31: 12 | D31: 13 | E31: 14 | F31: 15 | G31: 16 | I31: 7 | J31: 8 | K31: 9 | L31: 10 | M31: 11 | N31: 12 | O31: 13
A32: 17 | B32: 18 | C32: 19 | D32: 20 | E32: 21 | F32: 22 | G32: 23 | I32: 14 | J32: 15 | K32: 16 | L32: 17 | M32: 18 | N32: 19 | O32: 20 | Q32: Teléfono: 941 23 37 82
A33: 24 | B33: 25 | C33: 26 | D33: 27 | E33: 28 | F33: 29 | G33: 30 | I33: 21 | J33: 22 | K33: 23 | L33: 24 | M33: 25 | N33: 26 | O33: 27 | Q33: fe@usorioja.es
A34: 31 | I34: 28 | J34: 29 | K34: 30 | Q34: www.feusolarioja.es
A36: Actividad docente: del 1 de septiembre de 2026 al 30 de junio de 2027.
A37: Actividades lectivas:
B38: Educación Infantil, Primaria y Especial: del 09/09/26 al 22/06/2027.
B39: ESO, Bachillerato y Centros específicos de FP: del 09/09/26 al 22/06/2027.
B40: Ciclos formativos de FP: CFGM, CFGS y FP básica: del 09/09/26 al 22/06/2027.
B41: Ciclos Formativos de FP DISTANCIA: del 28/09/2026 al 22/06/2027.
B42: Escuela Superior de Diseño: del 09/09/26 al 25/06/2027.
B43: Conservatorios de Música: del 28/09/2026 al 22/06/2027.
B44: Escuelas Oficiales de Idiomas: del 28/09/2026 al 22/06/2027.
B45: Centros de Enseñanzas de Adultos: del 14/09/2026 al 22/06/2027.
A46: Vacaciones escolares
B47: Navidad: del 23 de diciembre de 2026 al 6 de enero de 2027, ambos inclusive.
B48: Semana Santa: del 25 de marzo de 2027 al 4 de abril de 2027, ambos inclusive.
A49: Día de la Comunidad Educativa en La Rioja 26 de febrero de 2027, viernes. No lectivo.
A50: Días no lectivos locales
B51: 7 dias en función del consejo escolar de cada municipio

Sheet HARO
A1: Haro | AP1: Haro
A2: Calendario escolar 2026/2027 | AP2: Calendario escolar 2026/2027
I4: Septiembre 2026 | Q4: Octubre 2026 | AX4: Septiembre 2026 | BF4: Octubre 2026
I5: L | J5: M | K5: X | L5: J | M5: V | N5: S | O5: D | Q5: L | R5: M | S5: X | T5: J | U5: V | V5: S | W5: D | AX5: L | AY5: M | AZ5: X | BA5: J | BB5: V | BC5: S | BD5: D | BF5: L | BG5: M | BH5: X | BI5: J | BJ5: V | BK5: S | BL5: D
J6: 1 | K6: 2 | L6: 3 | M6: 4 | N6: 5 | O6: 6 | T6: 1 | U6: 2 | V6: 3 | W6: 4 | BC6: 5 | BD6: 6 | BI6: 1 | BJ6: 2 | BK6: 3 | BL6: 4
I7: 7 | J7: 8 | K7: 9 | L7: 10 | M7: 11 | N7: 12 | O7: 13 | Q7: 5 | R7: 6 | S7: 7 | T7: 8 | U7: 9 | V7: 10 | W7: 11 | AZ7: 9 | BA7: 10 | BB7: 11 | BC7: 12 | BD7: 13 | BF7: 5 | BG7: 6 | BH7: 7 | BI7: 8 | BJ7: 9 | BK7: 10 | BL7: 11
I8: 14 | J8: 15 | K8: 16 | L8: 17 | M8: 18 | N8: 19 | O8: 20 | Q8: 12 | R8: 13 | S8: 14 | T8: 15 | U8: 16 | V8: 17 | W8: 18 | AX8: 14 | AY8: 15 | AZ8: 16 | BA8: 17 | BB8: 18 | BC8: 19 | BD8: 20 | BG8: 13 | BH8: 14 | BI8: 15 | BJ8: 16 | BK8: 17 | BL8: 18
I9: 21 | J9: 22 | K9: 23 | L9: 24 | M9: 25 | N9: 26 | O9: 27 | Q9: 19 | R9: 20 | S9: 21 | T9: 22 | U9: 23 | V9: 24 | W9: 25 | AX9: 21 | AY9: 22 | AZ9: 23 | BA9: 24 | BB9: 25 | BC9: 26 | BD9: 27 | BF9: 19 | BG9: 20 | BH9: 21 | BI9: 22 | BJ9: 23 | BK9: 24 | BL9: 25
I10: 28 | J10: 29 | K10: 30 | Q10: 26 | R10: 27 | S10: 28 | T10: 29 | U10: 30 | V10: 31 | W10: 1 | AX10: 28 | AY10: 29 | AZ10: 30 | BF10: 26 | BG10: 27 | BH10: 28 | BI10: 29 | BJ10: 30 | BK10: 31 | BL10: 1
A12: Noviembre 2026 | I12: Diciembre 2026 | Q12: Enero 2027 | AP12: Noviembre 2026 | AX12: Diciembre 2026 | BF12: Enero 2027
A13: L | B13: M | C13: X | D13: J | E13: V | F13: S | G13: D | I13: L | J13: M | K13: X | L13: J | M13: V | N13: S | O13: D | Q13: L | R13: M | S13: X | T13: J | U13: V | V13: S | W13: D | AP13: L | AQ13: M | AR13: X | AS13: J | AT13: V | AU13: S | AV13: D | AX13: L | AY13: M | AZ13: X | BA13: J | BB13: V | BC13: S | BD13: D | BF13: L | BG13: M | BH13: X | BI13: J | BJ13: V | BK13: S | BL13: D
A14: 2 | B14: 3 | C14: 4 | D14: 5 | E14: 6 | F14: 7 | G14: 8 | J14: 1 | K14: 2 | L14: 3 | M14: 4 | N14: 5 | O14: 6 | U14: 1 | V14: 2 | W14: 3 | AQ14: 3 | AR14: 4 | AS14: 5 | AT14: 6 | AU14: 7 | AV14: 8 | AY14: 1 | AZ14: 2 | BA14: 3 | BB14: 4 | BC14: 5 | BD14: 6 | BK14: 2 | BL14: 3
A15: 9 | B15: 10 | C15: 11 | D15: 12 | E15: 13 | F15: 14 | G15: 15 | I15: 7 | J15: 8 | K15: 9 | L15: 10 | M15: 11 | N15: 12 | O15: 13 | Q15: 4 | R15: 5 | S15: 6 | T15: 7 | U15: 8 | V15: 9 | W15: 10 | AP15: 9 | AQ15: 10 | AR15: 11 | AS15: 12 | AT15: 13 | AU15: 14 | AV15: 15 | AZ15: 9 | BA15: 10 | BB15: 11 | BC15: 12 | BD15: 13 | BJ15: 8 | BK15: 9 | BL15: 10
A16: 16 | B16: 17 | C16: 18 | D16: 19 | E16: 20 | F16: 21 | G16: 22 | I16: 14 | J16: 15 | K16: 16 | L16: 17 | M16: 18 | N16: 19 | O16: 20 | Q16: 11 | R16: 12 | S16: 13 | T16: 14 | U16: 15 | V16: 16 | W16: 17 | AP16: 16 | AQ16: 17 | AR16: 18 | AS16: 19 | AT16: 20 | AU16: 21 | AV16: 22 | AX16: 14 | AY16: 15 | AZ16: 16 | BA16: 17 | BB16: 18 | BC16: 19 | BD16: 20 | BF16: 11 | BG16: 12 | BH16: 13 | BI16: 14 | BJ16: 15 | BK16: 16 | BL16: 17
A17: 23 | B17: 24 | C17: 25 | D17: 26 | E17: 27 | F17: 28 | G17: 29 | I17: 21 | J17: 22 | K17: 23 | L17: 24 | M17: 25 | N17: 26 | O17: 27 | Q17: 18 | R17: 19 | S17: 20 | T17: 21 | U17: 22 | V17: 23 | W17: 24 | AP17: 23 | AQ17: 24 | AR17: 25 | AS17: 26 | AT17: 27 | AU17: 28 | AV17: 29 | AX17: 21 | AY17: 22 | BC17: 26 | BD17: 27 | BF17: 18 | BG17: 19 | BH17: 20 | BI17: 21 | BJ17: 22 | BK17: 23 | BL17: 24
A18: 30 | I18: 28 | J18: 29 | K18: 30 | L18: 31 | Q18: 25 | R18: 26 | S18: 27 | T18: 28 | U18: 29 | V18: 30 | W18: 31 | AP18: 30 | BF18: 25 | BG18: 26 | BH18: 27 | BI18: 28 | BJ18: 29 | BK18: 30 | BL18: 31
A20: Febrero 2027 | I20: Marzo 2027 | Q20: Abril 2027 | AP20: Febrero 2027 | AX20: Marzo 2027 | BF20: Abril 2027
A21: L | B21: M | C21: X | D21: J | E21: V | F21: S | G21: D | I21: L | J21: M | K21: X | L21: J | M21: V | N21: S | O21: D | Q21: L | R21: M | S21: X | T21: J | U21: V | V21: S | W21: D | AP21: L | AQ21: M | AR21: X | AS21: J | AT21: V | AU21: S | AV21: D | AX21: L | AY21: M | AZ21: X | BA21: J | BB21: V | BC21: S | BD21: D | BF21: L | BG21: M | BH21: X | BI21: J | BJ21: V | BK21: S | BL21: D
A22: 1 | B22: 2 | C22: 3 | D22: 4 | E22: 5 | F22: 6 | G22: 7 | I22: 1 | J22: 2 | K22: 3 | L22: 4 | M22: 5 | N22: 6 | O22: 7 | T22: 1 | U22: 2 | V22: 3 | W22: 4 | AP22: 1 | AQ22: 2 | AR22: 3 | AS22: 4 | AT22: 5 | AU22: 6 | AV22: 7 | AX22: 1 | AY22: 2 | AZ22: 3 | BA22: 4 | BB22: 5 | BC22: 6 | BD22: 7 | BK22: 3 | BL22: 4
A23: 8 | B23: 9 | C23: 10 | D23: 11 | E23: 12 | F23: 13 | G23: 14 | I23: 8 | J23: 9 | K23: 10 | L23: 11 | M23: 12 | N23: 13 | O23: 14 | Q23: 5 | R23: 6 | S23: 7 | T23: 8 | U23: 9 | V23: 10 | W23: 11 | AP23: 8 | AQ23: 9 | AR23: 10 | AS23: 11 | AT23: 12 | AU23: 13 | AV23: 14 | AX23: 8 | AY23: 9 | AZ23: 10 | BA23: 11 | BB23: 12 | BC23: 13 | BD23: 14 | BF23: 5 | BG23: 6 | BH23: 7 | BI23: 8 | BJ23: 9 | BK23: 10 | BL23: 11
A24: 15 | B24: 16 | C24: 17 | D24: 18 | E24: 19 | F24: 20 | G24: 21 | I24: 15 | J24: 16 | K24: 17 | L24: 18 | M24: 19 | N24: 20 | O24: 21 | Q24: 12 | R24: 13 | S24: 14 | T24: 15 | U24: 16 | V24: 17 | W24: 18 | AP24: 15 | AQ24: 16 | AR24: 17 | AS24: 18 | AT24: 19 | AU24: 20 | AV24: 21 | AX24: 15 | AY24: 16 | AZ24: 17 | BA24: 18 | BB24: 19 | BC24: 20 | BD24: 21 | BF24: 12 | BG24: 13 | BH24: 14 | BI24: 15 | BJ24: 16 | BK24: 17 | BL24: 18
A25: 22 | B25: 23 | C25: 24 | D25: 25 | E25: 26 | F25: 27 | G25: 28 | I25: 22 | J25: 23 | K25: 24 | L25: 25 | M25: 26 | N25: 27 | O25: 28 | Q25: 19 | R25: 20 | S25: 21 | T25: 22 | U25: 23 | V25: 24 | W25: 25 | AP25: 22 | AQ25: 23 | AR25: 24 | AU25: 27 | AV25: 28 | BC25: 27 | BD25: 28 | BF25: 19 | BG25: 20 | BH25: 21 | BI25: 22 | BJ25: 23 | BK25: 24 | BL25: 25
I26: 29 | J26: 30 | K26: 31 | Q26: 26 | R26: 27 | S26: 28 | T26: 29 | U26: 30 | V26: 1 | W26: 2 | BF26: 26 | BG26: 27 | BH26: 28 | BI26: 29 | BK26: 1 | BL26: 2
A28: Mayo 2027 | I28: Julio 2027 | R28: Inicio/Fin de clase | AP28: Junio 2027 | AX28: Julio 2027 | BG28: Inicio/Fin de clase
A29: L | B29: M | C29: X | D29: J | E29: V | F29: S | G29: D | I29: L | J29: M | K29: X | L29: J | M29: V | N29: S | O29: D | R29: No lectivo en La Rioja | AP29: L | AQ29: M | AR29: X | AS29: J | AT29: V | AU29: S | AV29: D | AX29: L | AY29: M | AZ29: X | BA29: J | BB29: V | BC29: S | BD29: D | BG29: No lectivo en La Rioja
A30: 3 | B30: 4 | C30: 5 | D30: 6 | E30: 7 | F30: 8 | G30: 9 | J30: 1 | K30: 2 | L30: 3 | M30: 4 | N30: 5 | O30: 6 | R30: No lectivo local (7 días) | AP30: 3 | AQ30: 4 | AR30: 5 | AS30: 6 | AT30: 7 | AU30: 8 | AV30: 9 | AY30: 1 | AZ30: 2 | BA30: 3 | BB30: 4 | BC30: 5 | BD30: 6 | BG30: No lectivo local (7 días)
A31: 10 | B31: 11 | C31: 12 | D31: 13 | E31: 14 | F31: 15 | G31: 16 | I31: 7 | J31: 8 | K31: 9 | L31: 10 | M31: 11 | N31: 12 | O31: 13 | R31: Fin de semana | AP31: 10 | AQ31: 11 | AR31: 12 | AS31: 13 | AT31: 14 | AU31: 15 | AV31: 16 | AX31: 7 | AY31: 8 | BA31: 10 | BB31: 11 | BC31: 12 | BD31: 13 | BG31: Fin de semana
A32: 17 | B32: 18 | C32: 19 | D32: 20 | E32: 21 | F32: 22 | G32: 23 | I32: 14 | J32: 15 | K32: 16 | L32: 17 | M32: 18 | N32: 19 | O32: 20 | AP32: 17 | AQ32: 18 | AR32: 19 | AS32: 20 | AT32: 21 | AU32: 22 | AV32: 23 | AX32: 14 | AY32: 15 | AZ32: 16 | BA32: 17 | BB32: 18 | BC32: 19 | BD32: 20
A33: 24 | B33: 25 | C33: 26 | D33: 27 | E33: 28 | F33: 29 | G33: 30 | I33: 21 | J33: 22 | K33: 23 | L33: 24 | M33: 25 | N33: 26 | O33: 27 | AP33: 24 | AQ33: 25 | AR33: 26 | AS33: 27 | AT33: 28 | AU33: 29 | AV33: 30 | AX33: 21 | AY33: 22 | BC33: 26 | BD33: 27
A34: 31 | I34: 28 | J34: 29 | K34: 30 | AP34: 31
A36: Actividad docente: del 1 de septiembre de 2026 al 30 de junio de 2027. | AP36: Actividad docente: del 1 de septiembre de 2026 al 30 de junio de 2027.
A37: Actividades lectivas: | AP37: Actividades lectivas:
B38: del 09/09/26 al 22/06/2027. | AQ38: del 09/09/26 al 22/06/2027.
A39: Día de la Comunidad Educativa en La Rioja 26 de febrero de 2027, viernes. No lectivo. | AP39: Día de la Comunidad Educativa en La Rioja 26 de febrero de 2027, viernes. No lectivo.
A40: Días no lectivos locales en Haro | AP40: Días no lectivos locales en Alfaro
B41: 2026 | D41: 2 de Noviembre | AQ41: 2026 | AS41: =D41 -> 2 de Noviembre
B42: 2027 | D42: 7 de Enero, 25 de Febrero, 22, 23 y 24 de Marzo, 30 de Abril | AQ42: 2027 | AS42: =D42 -> 7 de Enero, 25 de Febrero, 22, 23 y 24 de Marzo, 30 de Abril
F44: Lunes | I44: Martes | L44: Miércoles | O44: Jueves | R44: Viernes | AU44: Lunes | AX44: Martes | BA44: Miércoles | BD44: Jueves | BG44: Viernes
A45: 2026 | B45: Septiembre | F45: =AU45 -> 3 | I45: =AX45 -> 3 | L45: =BA45 -> 4 | O45: =BD45 -> 3 | R45: =BG45 -> 3 | U45: =BJ45 -> 16 | AP45: 2026 | AQ45: Septiembre | AU45: =COUNTIF(AX6:AX10, "<>") -> 3 | AX45: =COUNTIF(AY6:AY10, "<>") -> 3 | BA45: =COUNTIF(AZ6:AZ10, "<>") -> 4 | BD45: =COUNTIF(BA6:BA10, "<>") -> 3 | BG45: =COUNTIF(BB6:BB10, "<>") -> 3 | BJ45: =SUM(AU45:BI45) -> 16
B46: Octubre | F46: =AU46 -> 3 | I46: =AX46 -> 4 | L46: =BA46 -> 4 | O46: =BD46 -> 5 | R46: =BG46 -> 5 | U46: =BJ46 -> 21 | AQ46: Octubre | AU46: =COUNTIF(BF6:BF10, "<>") -> 3 | AX46: =COUNTIF(BG6:BG10, "<>") -> 4 | BA46: =COUNTIF(BH6:BH10, "<>") -> 4 | BD46: =COUNTIF(BI6:BI10, "<>") -> 5 | BG46: =COUNTIF(BJ6:BJ10, "<>") -> 5 | BJ46: =SUM(AU46:BI46) -> 21
B47: Noviembre | F47: =AU47 -> 4 | I47: =AX47 -> 4 | L47: =BA47 -> 4 | O47: =BD47 -> 4 | R47: =BG47 -> 4 | U47: =BJ47 -> 20 | AQ47: Noviembre | AU47: =COUNTIF(AP14:AP18, "<>") -> 4 | AX47: =COUNTIF(AQ14:AQ18, "<>") -> 4 | BA47: =COUNTIF(AR14:AR18, "<>") -> 4 | BD47: =COUNTIF(AS14:AS18, "<>") -> 4 | BG47: =COUNTIF(AT14:AT18, "<>") -> 4 | BJ47: =SUM(AU47:BI47) -> 20
A48: 2027 | B48: Diciembre | F48: =AU48 -> 2 | I48: =AX48 -> 3 | L48: =BA48 -> 3 | O48: =BD48 -> 3 | R48: =BG48 -> 3 | U48: =BJ48 -> 14 | AP48: 2027 | AQ48: Diciembre | AU48: =COUNTIF(AX14:AX18, "<>") -> 2 | AX48: =COUNTIF(AY14:AY18, "<>") -> 3 | BA48: =COUNTIF(AZ14:AZ18, "<>") -> 3 | BD48: =COUNTIF(BA14:BA18, "<>") -> 3 | BG48: =COUNTIF(BB14:BB18, "<>") -> 3 | BJ48: =SUM(AU48:BI48) -> 14
B49: Enero | F49: =AU49 -> 3 | I49: =AX49 -> 3 | L49: =BA49 -> 3 | O49: =BD49 -> 3 | R49: =BG49 -> 4 | U49: =BJ49 -> 16 | AQ49: Enero | AU49: =COUNTIF(BF14:BF18, "<>") -> 3 | AX49: =COUNTIF(BG14:BG18, "<>") -> 3 | BA49: =COUNTIF(BH14:BH18, "<>") -> 3 | BD49: =COUNTIF(BI14:BI18, "<>") -> 3 | BG49: =COUNTIF(BJ14:BJ18, "<>") -> 4 | BJ49: =SUM(AU49:BI49) -> 16
B50: Febrero | F50: =AU50 -> 4 | I50: =AX50 -> 4 | L50: =BA50 -> 4 | O50: =BD50 -> 3 | R50: =BG50 -> 3 | U50: =BJ50 -> 18 | AQ50: Febrero | AU50: =COUNTIF(AP22:AP26, "<>") -> 4 | AX50: =COUNTIF(AQ22:AQ26, "<>") -> 4 | BA50: =COUNTIF(AR22:AR26, "<>") -> 4 | BD50: =COUNTIF(AS22:AS25, "<>") -> 3 | BG50: =COUNTIF(AT22:AT26, "<>") -> 3 | BJ50: =SUM(AU50:BI50) -> 18
B51: Marzo | F51: =AU51 -> 3 | I51: =AX51 -> 3 | L51: =BA51 -> 3 | O51: =BD51 -> 3 | R51: =BG51 -> 3 | U51: =BJ51 -> 15 | AQ51: Marzo | AU51: =COUNTIF(AX22:AX26, "<>") -> 3 | AX51: =COUNTIF(AY22:AY26, "<>") -> 3 | BA51: =COUNTIF(AZ22:AZ26, "<>") -> 3 | BD51: =COUNTIF(BA22:BA26, "<>") -> 3 | BG51: =COUNTIF(BB22:BB26, "<>") -> 3 | BJ51: =SUM(AU51:BI51) -> 15
B52: Abril | F52: =AU52 -> 4 | I52: =AX52 -> 4 | L52: =BA52 -> 4 | O52: =BD52 -> 4 | R52: =BG52 -> 3 | U52: =BJ52 -> 19 | AQ52: Abril | AU52: =COUNTIF(BF22:BF26, "<>") -> 4 | AX52: =COUNTIF(BG22:BG26, "<>") -> 4 | BA52: =COUNTIF(BH22:BH26, "<>") -> 4 | BD52: =COUNTIF(BI22:BI26, "<>") -> 4 | BG52: =COUNTIF(BJ22:BJ26, "<>") -> 3 | BJ52: =SUM(AU52:BI52) -> 19
B53: Mayo | F53: =AU53 -> 5 | I53: =AX53 -> 4 | L53: =BA53 -> 4 | O53: =BD53 -> 4 | R53: =BG53 -> 4 | U53: =BJ53 -> 21 | AQ53: Mayo | AU53: =COUNTIF(AP30:AP34, "<>") -> 5 | AX53: =COUNTIF(AQ30:AQ34, "<>") -> 4 | BA53: =COUNTIF(AR30:AR34, "<>") -> 4 | BD53: =COUNTIF(AS30:AS34, "<>") -> 4 | BG53: =COUNTIF(AT30:AT34, "<>") -> 4 | BJ53: =SUM(AU53:BI53) -> 21
B54: Junio | F54: =AU54 -> 3 | I54: =AX54 -> 4 | L54: =BA54 -> 2 | O54: =BD54 -> 3 | R54: =BG54 -> 3 | U54: =BJ54 -> 15 | AQ54: Junio | AU54: =COUNTIF(AX30:AX34, "<>") -> 3 | AX54: =COUNTIF(AY30:AY34, "<>") -> 4 | BA54: =COUNTIF(AZ30:AZ34, "<>") -> 2 | BD54: =COUNTIF(BA30:BA34, "<>") -> 3 | BG54: =COUNTIF(BB30:BB34, "<>") -> 3 | BJ54: =SUM(AU54:BI54) -> 15
G55: =AV55 -> 34 | J55: =AY55 -> 36 | M55: =BB55 -> 35 | P55: =BE55 -> 35 | S55: =BH55 -> 35 | T55: =BI55 -> 175 | AV55: =SUM(AU45:AW54) -> 34 | AY55: =SUM(AX45:AZ54) -> 36 | BB55: =SUM(BA45:BC54) -> 35 | BE55: =SUM(BD45:BF54) -> 35 | BH55: =SUM(BG45:BI54) -> 35 | BI55: =SUM(BJ45:BJ54) -> 175

Sheet Mi HORARIO
B2: MI HORARIO DE CLASES (Lectivas)
B3: Lunes | G3: Martes | L3: Miércoles | Q3: Jueves | V3: Viernes
B4: DE | C4: HASTA | D4: Tiempo | E4: ACTIVIDAD | G4: DE | H4: HASTA | I4: Tiempo | J4: ACTIVIDAD | L4: DE | M4: HASTA | N4: Tiempo | O4: ACTIVIDAD | Q4: DE | R4: HASTA | S4: Tiempo | T4: ACTIVIDAD | V4: DE | W4: HASTA | X4: Tiempo | Y4: ACTIVIDAD
B5: 0.33333333 | C5: 0.37152778 | D5: =C5-B5 -> 0.038194444 | E5: CLASE | G5: 0.33333333 | H5: 0.37152778 | I5: =H5-G5 -> 0.038194444 | J5: CLASE | N5: =M5-L5 -> 0 | Q5: 0.33333333 | R5: 0.37152778 | S5: =R5-Q5 -> 0.038194444 | T5: CLASE | V5: 0.33333333 | W5: 0.37152778 | X5: =W5-V5 -> 0.038194444 | Y5: CLASE
B6: 0.375 | C6: 0.41319444 | D6: =C6-B6 -> 0.038194444 | E6: CLASE | G6: 0.375 | H6: 0.41319444 | I6: =H6-G6 -> 0.038194444 | J6: CLASE | L6: 0.375 | M6: 0.41319444 | N6: =M6-L6 -> 0.038194444 | O6: CLASE | Q6: 0.375 | R6: 0.41319444 | S6: =R6-Q6 -> 0.038194444 | T6: CLASE | V6: 0.375 | W6: 0.41319444 | X6: =W6-V6 -> 0.038194444 | Y6: CLASE
B7: 0.41666667 | C7: 0.45486111 | D7: =C7-B7 -> 0.038194444 | E7: CLASE | I7: =H7-G7 -> 0 | L7: 0.41666667 | M7: 0.45486111 | N7: =M7-L7 -> 0.038194444 | O7: CLASE | Q7: 0.41666667 | R7: 0.45486111 | S7: =R7-Q7 -> 0.038194444 | T7: CLASE | X7: =W7-V7 -> 0
B8: 0.47916667 | C8: 0.51736111 | D8: =C8-B8 -> 0.038194444 | E8: CLASE | G8: 0.47916667 | H8: 0.51736111 | I8: =H8-G8 -> 0.038194444 | J8: CLASE | L8: 0.47916667 | M8: 0.51736111 | N8: =M8-L8 -> 0.038194444 | O8: CLASE | Q8: 0.47916667 | R8: 0.51736111 | S8: =R8-Q8 -> 0.038194444 | T8: CLASE | V8: 0.47916667 | W8: 0.51736111 | X8: =W8-V8 -> 0.038194444 | Y8: CLASE
B9: 0.52083333 | C9: 0.55902778 | D9: =C9-B9 -> 0.038194444 | E9: CLASE | G9: 0.52083333 | H9: 0.55902778 | I9: =H9-G9 -> 0.038194444 | J9: CLASE | N9: =M9-L9 -> 0 | S9: =R9-Q9 -> 0 | V9: 0.52083333 | W9: 0.55902778 | X9: =W9-V9 -> 0.038194444 | Y9: CLASE
B10: 0.5625 | C10: 0.60069444 | D10: =C10-B10 -> 0.038194444 | E10: CLASE | G10: 0.5625 | H10: 0.60069444 | I10: =H10-G10 -> 0.038194444 | J10: TUTORÍA | L10: 0.5625 | M10: 0.60069444 | N10: =M10-L10 -> 0.038194444 | O10: CLASE | Q10: 0.5625 | R10: 0.60069444 | S10: =R10-Q10 -> 0.038194444 | T10: CLASE | V10: 0.5625 | W10: 0.60069444 | X10: =W10-V10 -> 0.038194444 | Y10: CLASE
D11: =C11-B11 -> 0 | I11: =H11-G11 -> 0 | N11: =M11-L11 -> 0 | S11: =R11-Q11 -> 0 | X11: =W11-V11 -> 0
B12: Total | D12: =SUM(D5:D11) -> 0.22916667 | G12: Total | I12: =SUM(I5:I11) -> 0.19097222 | L12: Total | N12: =SUM(N5:N11) -> 0.15277778 | Q12: Total | S12: =SUM(S5:S11) -> 0.19097222 | V12: Total | X12: =SUM(X5:X11) -> 0.19097222
B13: MI HORARIO COMPLEMENTARIO (No lectivas)
B14: DE | C14: HASTA | D14: Tiempo | E14: ACTIVIDAD | G14: DE | H14: HASTA | I14: Tiempo | J14: ACTIVIDAD | L14: DE | M14: HASTA | N14: Tiempo | O14: ACTIVIDAD | Q14: DE | R14: HASTA | S14: Tiempo | T14: ACTIVIDAD | V14: DE | W14: HASTA | X14: Tiempo | Y14: ACTIVIDAD
B15: 0.37152778 | C15: 0.375 | D15: =C15-B15 -> 0.0034722222 | E15: CAMBIO | G15: 0.37152778 | H15: 0.375 | I15: =H15-G15 -> 0.0034722222 | J15: CAMBIO | L15: 0.33333333 | M15: 0.375 | N15: =M15-L15 -> 0.041666667 | O15: COMPLEMEN | Q15: 0.37152778 | R15: 0.375 | S15: =R15-Q15 -> 0.0034722222 | T15: CAMBIO | V15: 0.37152778 | W15: 0.375 | X15: =W15-V15 -> 0.0034722222 | Y15: CAMBIO
B16: 0.41319444 | C16: 0.41666667 | D16: =C16-B16 -> 0.0034722222 | E16: CAMBIO | G16: 0.41319444 | H16: 0.45486111 | I16: =H16-G16 -> 0.041666667 | J16: COMPLEMEN | L16: 0.41319444 | M16: 0.41666667 | N16: =M16-L16 -> 0.0034722222 | O16: CAMBIO | Q16: 0.41319444 | R16: 0.41666667 | S16: =R16-Q16 -> 0.0034722222 | T16: CAMBIO | V16: 0.41319444 | W16: 0.45486111 | X16: =W16-V16 -> 0.041666667 | Y16: COMPLEM
B17: 0.45486111 | C17: 0.47569444 | D17: =C17-B17 -> 0.020833333 | E17: RECREO | G17: 0.51736111 | H17: 0.52083333 | I17: =H17-G17 -> 0.0034722222 | J17: CAMBIO | L17: 0.51736111 | M17: 0.5625 | N17: =M17-L17 -> 0.045138889 | O17: COMPLEMEN | Q17: 0.55902778 | R17: 0.5625 | S17: =R17-Q17 -> 0.0034722222 | T17: CAMBIO | V17: 0.51736111 | W17: 0.52083333 | X17: =W17-V17 -> 0.0034722222 | Y17: CAMBIO
B18: 0.51736111 | C18: 0.52083333 | D18: =C18-B18 -> 0.0034722222 | E18: CAMBIO | G18: 0.55902778 | H18: 0.60069444 | I18: =H18-G18 -> 0.041666667 | J18: COMPLEMEN | L18: 0.66666667 | M18: 0.72916667 | N18: =M18-L18 -> 0.0625 | O18: CLAUSTRO | Q18: 0.55902778 | R18: 0.5625 | S18: =R18-Q18 -> 0.0034722222 | T18: CAMBIO | V18: 0.55902778 | W18: 0.5625 | X18: =W18-V18 -> 0.0034722222 | Y18: CAMBIO
B19: 0.55902778 | C19: 0.5625 | D19: =C19-B19 -> 0.0034722222 | E19: CAMBIO | I19: =H19-G19 -> 0 | N19: =M19-L19 -> 0 | S19: =R19-Q19 -> 0 | X19: =W19-V19 -> 0
D20: =C20-B20 -> 0 | I20: =H20-G20 -> 0 | N20: =M20-L20 -> 0 | S20: =R20-Q20 -> 0 | X20: =W20-V20 -> 0
D21: =C21-B21 -> 0 | I21: =H21-G21 -> 0 | N21: =M21-L21 -> 0 | S21: =R21-Q21 -> 0 | X21: =W21-V21 -> 0
B22: Total | D22: =SUM(D15:D21) -> 0.034722222 | G22: Total | I22: =SUM(I15:I21) -> 0.090277778 | L22: Total | N22: =SUM(N15:N21) -> 0.15277778 | Q22: Total | S22: =SUM(S15:S21) -> 0.013888889 | V22: Total | X22: =SUM(X15:X21) -> 0.052083333
B24: Lectivas | D24: =D12*24 -> 5.5 | E24: =D24*HARO!G55 -> 187 | G24: Lectivas | I24: =I12*24 -> 4.5833333 | J24: =I24*HARO!J55 -> 165 | L24: Lectivas | N24: =N12*24 -> 3.6666667 | O24: =N24*HARO!M55 -> 128.33333 | Q24: Lectivas | S24: =S12*24 -> 4.5833333 | T24: =S24*HARO!P55 -> 160.41667 | V24: Lectivas | X24: =X12*24 -> 4.5833333 | Y24: =X24*HARO!S55 -> 160.41667
B25: Complementarias | D25: =D22*24 -> 0.83333333 | E25: =D25*HARO!G55 -> 28.333333 | G25: Complementarias | I25: =I22*24 -> 2.1666667 | J25: =I25*HARO!J55 -> 78 | L25: Complementarias | N25: =N22*24 -> 3.6666667 | O25: =N25*HARO!M55 -> 128.33333 | Q25: Complementarias | S25: =S22*24 -> 0.33333333 | T25: =S25*HARO!P55 -> 11.666667 | V25: Complementarias | X25: =X22*24 -> 1.25 | Y25: =X25*HARO!S55 -> 43.75
D26: =SUM(D24:D25) -> 6.3333333 | I26: =SUM(I24:I25) -> 6.75 | N26: =SUM(N24:N25) -> 7.3333333 | S26: =SUM(S24:S25) -> 4.9166667 | X26: =SUM(X24:X25) -> 5.8333333
B28: Días laborales no lectivos | K28: Carga horaria del curso 2026 / 2027 | T28: Reducción de carga lectiva por edad
B29: Septiembre | N29: Convenio | O29: Mi jornada | P29: Balance | W29: Convenio | X29: Mi jornada | Y29: Balance
B30: DE | C30: HASTA | D30: Tiempo | E30: ACTIVIDAD | G30: Días | H30: Horas | K30: Lectivas | N30: =(850*O35) -> 850 | O30: =E24+J24+O24+T24+Y24 -> 801.16667 | P30: =N30-O30 -> 48.833333 | T30: Lectivas | W30: =SUM(W36*N30/N34) -> 782 | X30: =O30 -> 801.16667 | Y30: =W30-O30 -> -19.166667
B31: 0.375 | C31: 0.58333333 | D31: =C31-B31 -> 0.20833333 | E31: Complementaria | G31: 6 | H31: =(D31*24)*G31 -> 30 | K31: Complementarias | N31: =(1180*O35)-N30 -> 330 | O31: =E25+J25+O25+T25+Y25+H31+H34+H36 -> 352.33333 | P31: =N31-O31 -> -22.333333 | T31: Complementarias | W31: =1180-W30 -> 398 | X31: =O31 -> 352.33333 | Y31: =W31-X31 -> 45.666667
B32: Junio | K32: Total | N32: =N30+N31 -> 1180 | O32: =O30+O31 -> 1153.5 | P32: =N32-O32 -> 26.5 | T32: Total | W32: =W30+W31 -> 1180 | X32: =O32 -> 1153.5 | Y32: =W32-X32 -> 26.5
B33: DE | C33: HASTA | D33: Tiempo | E33: ACTIVIDAD | G33: Días | H33: Horas
B34: 0.375 | C34: 0.58333333 | D34: =C34-B34 -> 0.20833333 | E34: Complementaria | G34: 6 | H34: =(D34*24)*G34 -> 30 | K34: Horas/Semana | N34: 25 | O34: 1 | T34: Jornada por contrato | W34: 25
K35: Tu jornada | N35: 25 | O35: =SUM(N35*O34/N34) -> 1 | T35: Reducción por edad | W35: 2
B36: Horas fuera del "horario marco" | H36: ='Otras horas'!I3 -> 2.25 | T36: Horas lectivas | W36: =W34-W35 -> 23

Sheet Otras horas
A1: COMPLEMENTARIAS FUERA DEL "HORARIO MARCO" | H1: Complementarias
H2: Minutos | I2: Horas
A3: Tipos de horas | H3: =SUM(H10:H405) -> 135 | I3: =SUM(I10:I405) -> 2.25
B4: Complementarias: las “pide” el centro, como son, por ejemplo, los claustros o reuniones que no están programadas en el horario marco.
B5: Libres: el centro informa que esas horas las reconoce como complementarias; como, por ejemplo, formación.
B6: Voluntarias: el centro propone una actividad para que, quien quiera, asista; pero no se considera “trabajo”; como, por ejemplo, un sábado que…
A7: En caso de duda, si alguien del equipo directivo no te ha dicho expresamente que es tiempo complentario, no se computa como trabajado.
A8: Actividad complementaria | H8: Complementarias
B9: Fecha | C9: Inicio | D9: Final | E9: Horas | F9: Descripción | G9: Propone | H9: Minutos | I9: Horas
A10: 1 | B10: 46273 | E10: 1.5 | F10: Hablemos de educación (diploma de asistencia) | G10: Dirección | H10: =IF(ISBLANK(E10), (D10-C10)*1440, E10*60) -> 90 | I10: =IF(ISBLANK(E10), (D10-C10)*24, E10) -> 1.5
A11: 2 | B11: 45911 | C11: 0.66666667 | D11: 0.69791667 | F11: Claustro: Plan de Atención a las Diferencias Individuales (PADI) | G11: Jefa de estudios | H11: =IF(ISBLANK(E11), (D11-C11)*1440, E11) -> 45 | I11: =IF(ISBLANK(E11), (D11-C11)*24, E11) -> 0.75
A12: 3 | H12: =IF(ISBLANK(E12), (D12-C12)*1440, E12) -> 0 | I12: =IF(ISBLANK(E12), (D12-C12)*24, E12) -> 0
A13: 4 | H13: =IF(ISBLANK(E13), (D13-C13)*1440, E13) -> 0 | I13: =IF(ISBLANK(E13), (D13-C13)*24, E13) -> 0
A14: 5 | H14: =IF(ISBLANK(E14), (D14-C14)*1440, E14) -> 0 | I14: =IF(ISBLANK(E14), (D14-C14)*24, E14) -> 0
A15: 6 | H15: =IF(ISBLANK(E15), (D15-C15)*1440, E15) -> 0 | I15: =IF(ISBLANK(E15), (D15-C15)*24, E15) -> 0
A16: 7 | H16: =IF(ISBLANK(E16), (D16-C16)*1440, E16) -> 0 | I16: =IF(ISBLANK(E16), (D16-C16)*24, E16) -> 0
A17: 8 | H17: =IF(ISBLANK(E17), (D17-C17)*1440, E17) -> 0 | I17: =IF(ISBLANK(E17), (D17-C17)*24, E17) -> 0
A18: 9 | H18: =IF(ISBLANK(E18), (D18-C18)*1440, E18) -> 0 | I18: =IF(ISBLANK(E18), (D18-C18)*24, E18) -> 0
A19: 10 | H19: =IF(ISBLANK(E19), (D19-C19)*1440, E19) -> 0 | I19: =IF(ISBLANK(E19), (D19-C19)*24, E19) -> 0
A20: 11 | H20: =IF(ISBLANK(E20), (D20-C20)*1440, E20) -> 0 | I20: =IF(ISBLANK(E20), (D20-C20)*24, E20) -> 0
A21: 12 | H21: =IF(ISBLANK(E21), (D21-C21)*1440, E21) -> 0 | I21: =IF(ISBLANK(E21), (D21-C21)*24, E21) -> 0
A22: 13 | H22: =IF(ISBLANK(E22), (D22-C22)*1440, E22) -> 0 | I22: =IF(ISBLANK(E22), (D22-C22)*24, E22) -> 0
A23: 14 | H23: =IF(ISBLANK(E23), (D23-C23)*1440, E23) -> 0 | I23: =IF(ISBLANK(E23), (D23-C23)*24, E23) -> 0
... A405: 396 | H405: =IF(ISBLANK(E405), (D405-C405)*1440, E405) -> 0 | I405: =IF(ISBLANK(E405), (D405-C405)*24, E405) -> 0
A406: 397 | H406: =SUM(H10:H405) -> 135 | I406: =SUM(I10:I405) -> 2.25
A407: 398 | H407: =IF(ISBLANK(E407), (D407-C407)*1440, E407) -> 0 | I407: =IF(ISBLANK(E407), (D407-C407)*24, E407) -> 0
A408: 399 | E408: Fin | H408: =IF(ISBLANK(E408), (D408-C408)*1440, E408) -> Fin | I408: =IF(ISBLANK(E408), (D408-C408)*24, E408) -> Fin
